BEGIN:VCALENDAR
VERSION:2.0
PRODID:-//Squarespace Inc/Squarespace 6//v6//EN
BEGIN:VEVENT
UID:5c0ace8bc2241b2bd5f31fd0@squarespace.com
DTSTAMP:20181222T152948Z
DTSTART:20190105T190000Z
DTEND:20190105T203000Z
SUMMARY:We Three King Cakes: A Baking Demo &amp\; Tasting with PacFAB Direc
 tor Tracey Mitchell
GEO:33.737227;-118.288177
LOCATION:Pacific Food and Beverage Museum\, 731 S. Pacific Ave.\, San Pedro
 \, CA 90731\, United States
END:VEVENT
END:VCALENDAR
