BEGIN:VCALENDAR
VERSION:2.0
PRODID:-//Squarespace Inc/Squarespace 6//v6//EN
BEGIN:VEVENT
UID:56313ec6e4b0f01461538b72@squarespace.com
DTSTAMP:20151207T192039Z
DTSTART:20151121T190000Z
DTEND:20151121T210000Z
SUMMARY:Turkey Frying 101
GEO:29.940973;-90.079206
LOCATION:Southern Food and Beverage Museum\, 1504 Oretha Castle Haley Boule
 vard\, New Orleans\, LA\, 70113\, United States
END:VEVENT
END:VCALENDAR
