BEGIN:VCALENDAR
VERSION:2.0
PRODID:-//Squarespace Inc/Squarespace 6//v6//EN
BEGIN:VEVENT
UID:5654f083e4b06edc0ab26aae@squarespace.com
DTSTAMP:20170621T153715Z
DTSTART:20151204T000000Z
DTEND:20151204T010000Z
SUMMARY:Thirsty 1st Thursdays at the New Orleans Public Library
GEO:30.005062;-90.107443
LOCATION:Robert E. Smith Library\, 6301 Canal Boulevard\, New Orleans\, LA\
 , 70124\, United States
END:VEVENT
END:VCALENDAR
