BEGIN:VCALENDAR
VERSION:2.0
PRODID:-//Squarespace Inc/Squarespace 6//v6//EN
BEGIN:VEVENT
UID:5ca1391af9619a88d333beee@squarespace.com
DTSTAMP:20190331T220822Z
DTSTART:20190411T230000Z
DTEND:20190412T010000Z
SUMMARY:Tequila Mandala: An Agave Spirit Circle with Kirk Cartozian
GEO:34.050967;-118.24485
LOCATION:The Edison\, 108 W. Second St.\, Los Angeles\, CA 90012\, United S
 tates
END:VEVENT
END:VCALENDAR
