BEGIN:VCALENDAR
VERSION:2.0
PRODID:-//Squarespace Inc/Squarespace 6//v6//EN
BEGIN:VEVENT
UID:554120dae4b0da169017a5eb@squarespace.com
DTSTAMP:20170621T153715Z
DTSTART:20150623T230000Z
DTEND:20150624T010000Z
SUMMARY:MOTAC Tuesday Tastings at The Three Clubs: Greenbar Craft Distiller
 y
GEO:34.091595;-118.327009
LOCATION:Three Clubs\, 1123 Vine St\, Los Angeles\, CA\, 90038\, United Sta
 tes
END:VEVENT
END:VCALENDAR
