BEGIN:VCALENDAR
VERSION:2.0
PRODID:-//Squarespace Inc/Squarespace 6//v6//EN
BEGIN:VEVENT
UID:55661365e4b0f52509432ae1@squarespace.com
DTSTAMP:20170621T153715Z
DTSTART:20150713T220000Z
DTEND:20150714T000000Z
SUMMARY:State of the Art 2015
GEO:29.94098;-90.0792
LOCATION:Southern Food and Beverage Museum\, 1504 Oretha Castle Haley Blvd\
 , New Orleans\, LA\, 70113\, United States
END:VEVENT
END:VCALENDAR
