BEGIN:VCALENDAR
VERSION:2.0
PRODID:-//Squarespace Inc/Squarespace 6//v6//EN
BEGIN:VEVENT
UID:5c6774e6a4222f33780f934e@squarespace.com
DTSTAMP:20190224T010442Z
DTSTART:20190307T000000Z
DTEND:20190307T020000Z
SUMMARY:Spirits Most English: Gin\, Vodka &amp\; More with Chase Distillery
 's William &amp\; James Chase
GEO:34.050967;-118.24485
LOCATION:The Edison\, 108 W. Second St.\, Hollywood\, CA 90012\, United Sta
 tes
END:VEVENT
END:VCALENDAR
