BEGIN:VCALENDAR
VERSION:2.0
PRODID:-//Squarespace Inc/Squarespace 6//v6//EN
BEGIN:VEVENT
UID:564ba1abe4b094b45e8f8677@squarespace.com
DTSTAMP:20151207T191318Z
DTSTART:20151212T160000Z
DTEND:20151212T180000Z
SUMMARY:In the SoFAB Kitchen with Jay Ducote
GEO:29.940973;-90.079205
LOCATION:Southern Food and Beverage Museum\, 1504 Oretha Castle Haley Boule
 vard\, New Orleans\, LA\, 70113\, United States
END:VEVENT
END:VCALENDAR
