BEGIN:VCALENDAR
VERSION:2.0
PRODID:-//Squarespace Inc/Squarespace 6//v6//EN
BEGIN:VEVENT
UID:5d6fe7b9147bd500014c2bd7@squarespace.com
DTSTAMP:20190904T174832Z
DTSTART:20190918T230000Z
DTEND:20190919T020000Z
SUMMARY:Breaking the Barrel—The Single Oak Series Whiskeys Debut at The Inf
 usery!
GEO:34.029289;-118.231055
LOCATION:The Infusery\, 2332 E. Eighth Street\, Los Angeles\, CA 90021\, Un
 ited States
END:VEVENT
END:VCALENDAR
