BEGIN:VCALENDAR
VERSION:2.0
PRODID:-//Squarespace Inc/Squarespace 6//v6//EN
BEGIN:VEVENT
UID:5d5479c796409000017dcf87@squarespace.com
DTSTAMP:20190904T163505Z
DTSTART:20190826T230000Z
DTEND:20190827T020000Z
SUMMARY:A Spirited Night with Infuse Vodka at The Infusery
GEO:34.029289;-118.231055
LOCATION:The Infusery\, 2332 E. Eighth Street\, Los Angeles\, CA 90021\, Un
 ited States
END:VEVENT
END:VCALENDAR
