BEGIN:VCALENDAR
VERSION:2.0
PRODID:-//Squarespace Inc/Squarespace 6//v6//EN
BEGIN:VEVENT
UID:5da760377a025678629beb52@squarespace.com
DTSTAMP:20191016T183129Z
DTSTART:20191030T230000Z
DTEND:20191031T020000Z
SUMMARY:Summoning Spirits: A Halloween Cocktail Party at The Infusery!
GEO:34.029289;-118.231055
LOCATION:The Infusery\, 2332 E. Eighth Street\, Los Angeles\, CA 90021\, Un
 ited States
END:VEVENT
END:VCALENDAR
