BEGIN:VCALENDAR
VERSION:2.0
PRODID:-//Squarespace Inc/Squarespace 6//v6//EN
BEGIN:VEVENT
UID:5da74894c8adb1538d2f4d21@squarespace.com
DTSTAMP:20191024T145432Z
DTSTART:20191024T230000Z
DTEND:20191025T010000Z
SUMMARY:Pass the Patrón: Tasting Tequila with Egor Polonskiy
GEO:34.103996;-118.325051
LOCATION:The Kimpton Everly Hotel\, 1800 Argyle Avenue\, Los Angeles\, CA\, 
 90028\, United States
END:VEVENT
END:VCALENDAR
