BEGIN:VCALENDAR
VERSION:2.0
PRODID:-//Squarespace Inc/Squarespace 6//v6//EN
BEGIN:VEVENT
UID:5d8a9ce4def8834a61093dba@squarespace.com
DTSTAMP:20191016T164300Z
DTSTART:20191023T230000Z
DTEND:20191024T010000Z
SUMMARY:Red\, White &amp\; Bubbles! Champagne &amp\; More from Olivier Lefl
 aive with Jean Soubeyrand
GEO:34.08335;-118.348318
LOCATION:Severance Wine Bar\, 7274 Melrose Avenue\, Los Angeles\, CA\, 9004
 6\, United States
END:VEVENT
END:VCALENDAR
