BEGIN:VCALENDAR
VERSION:2.0
PRODID:-//Squarespace Inc/Squarespace 6//v6//EN
BEGIN:VEVENT
UID:5d658d11831f100001cac929@squarespace.com
DTSTAMP:20190828T183929Z
DTSTART:20190910T230000Z
DTEND:20190911T010000Z
SUMMARY: Passionate Spirit: The Cognacs of Maison Park with Anaïs Mathilde 
 Brisson
GEO:34.101926;-118.326468
LOCATION:Lost Property Bar & Kitchen\, 1704 Vine Street\, Los Angeles\, CA\
 , 90028\, United States
END:VEVENT
END:VCALENDAR
