BEGIN:VCALENDAR
VERSION:2.0
PRODID:-//Squarespace Inc/Squarespace 6//v6//EN
BEGIN:VEVENT
UID:5d38cb1519b5f00001abce13@squarespace.com
DTSTAMP:20190813T194857Z
DTSTART:20190816T230000Z
DTEND:20190817T010000Z
SUMMARY:WhistlePig PiggyBack Rye: Raising a 6-Year-Old with Blaine Adams
GEO:34.050967;-118.24485
LOCATION:The Edison\, 108 W. Second St\, Los Angeles\, CA 90012\, United St
 ates
END:VEVENT
END:VCALENDAR
