BEGIN:VCALENDAR
VERSION:2.0
PRODID:-//Squarespace Inc/Squarespace 6//v6//EN
BEGIN:VEVENT
UID:5d5312018f021b0001c8b3d2@squarespace.com
DTSTAMP:20190813T194926Z
DTSTART:20190814T230000Z
DTEND:20190815T010000Z
SUMMARY:Owney's Rum: Spirits of New York with Distiller Bridget Firtle
GEO:34.101926;-118.326468
LOCATION:Lost Property Bar & Kitchen\, 1704 Vine Street\, Los Angeles\, CA 
 90028\, United States
END:VEVENT
END:VCALENDAR
