BEGIN:VCALENDAR
VERSION:2.0
PRODID:-//Squarespace Inc/Squarespace 6//v6//EN
BEGIN:VEVENT
UID:5d2f77c864c1c200019271b5@squarespace.com
DTSTAMP:20190814T211448Z
DTSTART:20190729T230000Z
DTEND:20190730T010000Z
SUMMARY:Don't Spare the Bitters! Seasoning the Cocktail with Seth Benhaim 
GEO:34.029289;-118.231055
LOCATION:The Infusery\, 2332 E. Eighth Street\, Los Angeles\, CA 90021\, Un
 ited States
END:VEVENT
END:VCALENDAR
