BEGIN:VCALENDAR
VERSION:2.0
PRODID:-//Squarespace Inc/Squarespace 6//v6//EN
BEGIN:VEVENT
UID:5d0a5f60c4cfd100017ee968@squarespace.com
DTSTAMP:20190724T211813Z
DTSTART:20190627T230000Z
DTEND:20190628T010000Z
SUMMARY:All About Avila: Agave Spirits from Morelos with Chris Abbott
GEO:34.050967;-118.24485
LOCATION:The Edison\, 108 W. Second St\, Los Angeles\, CA 90012\, United St
 ates
END:VEVENT
END:VCALENDAR
