BEGIN:VCALENDAR
VERSION:2.0
PRODID:-//Squarespace Inc/Squarespace 6//v6//EN
BEGIN:VEVENT
UID:5cf950666ba55d00018d295c@squarespace.com
DTSTAMP:20190611T185317Z
DTSTART:20190620T230000Z
DTEND:20190621T010000Z
SUMMARY:¡Viva Don Papa! Discovering Philippine Rum with Prairie Rose &amp\; 
 Fred Makapugay
GEO:34.050967;-118.24485
LOCATION:The Edison\, 108 W. Second St\, Los Angeles\, CA 90012\, United St
 ates
END:VEVENT
END:VCALENDAR
