BEGIN:VCALENDAR
VERSION:2.0
PRODID:-//Squarespace Inc/Squarespace 6//v6//EN
BEGIN:VEVENT
UID:5cfff89d391fa10001ecb994@squarespace.com
DTSTAMP:20190717T193224Z
DTSTART:20190613T230000Z
DTEND:20190614T010000Z
SUMMARY:Lo-Fi Aperitifs: Drinking in High Fidelity with Victoria Canty
GEO:34.050967;-118.24485
LOCATION:The Edison\, 108 W. Second St\, Los Angeles\, CA 90012\, United St
 ates
END:VEVENT
END:VCALENDAR
