BEGIN:VCALENDAR
VERSION:2.0
PRODID:-//Squarespace Inc/Squarespace 6//v6//EN
BEGIN:VEVENT
UID:5ced88aa0d9297277aed02cc@squarespace.com
DTSTAMP:20190604T153738Z
DTSTART:20190606T230000Z
DTEND:20190607T010000Z
SUMMARY:My Hiro! Super-Premium Japanese Sake with Vanessa Kieffer
GEO:34.050967;-118.24485
LOCATION:The Edison\, 108 W. Second St\, Los Angeles\, CA 90012\, United St
 ates
END:VEVENT
END:VCALENDAR
