BEGIN:VCALENDAR
VERSION:2.0
PRODID:-//Squarespace Inc/Squarespace 6//v6//EN
BEGIN:VEVENT
UID:5cf6904202813700017cdfb2@squarespace.com
DTSTAMP:20190604T154753Z
DTSTART:20190604T230000Z
DTEND:20190605T010000Z
SUMMARY:Discover Dictador: Colombian Rum Supreme with Diego Quintero
GEO:34.101926;-118.326468
LOCATION:1704 Vine St\, Hollywood\, CA 90028\, United States
END:VEVENT
END:VCALENDAR
