BEGIN:VCALENDAR
VERSION:2.0
PRODID:-//Squarespace Inc/Squarespace 6//v6//EN
BEGIN:VEVENT
UID:5ce44f260bc46500010db53f@squarespace.com
DTSTAMP:20190521T192955Z
DTSTART:20190523T230000Z
DTEND:20190524T010000Z
SUMMARY:Drinking the Green: Jameson Irish Whiskey with Saoirse McCabe
GEO:34.101926;-118.326468
LOCATION:Lost Property Bar & Kitchen\, 1704 Vine St\, Los Angeles\, CA 9002
 8\, United States
END:VEVENT
END:VCALENDAR
