BEGIN:VCALENDAR
VERSION:2.0
PRODID:-//Squarespace Inc/Squarespace 6//v6//EN
BEGIN:VEVENT
UID:5cd1b28f4785d391ef619607@squarespace.com
DTSTAMP:20190516T194121Z
DTSTART:20190521T230000Z
DTEND:20190522T010000Z
SUMMARY:Drinking History: Forgotten Cocktails with Jonathan Pogash\, "The C
 ocktail Guru" Touring the Cocktail
GEO:34.101926;-118.326468
LOCATION:Lost Property Bar & Kitchen\, 1704 Vine Street\, Hollywood\, CA  9
 0028\, United States
END:VEVENT
END:VCALENDAR
