BEGIN:VCALENDAR
VERSION:2.0
PRODID:-//Squarespace Inc/Squarespace 6//v6//EN
BEGIN:VEVENT
UID:5cddbce0f1d7f80001a943a8@squarespace.com
DTSTAMP:20190521T212232Z
DTSTART:20190530T230000Z
DTEND:20190531T010000Z
SUMMARY:iichiko of Japan: Tasting Shochu with Tetsuro Miyazaki  
GEO:34.050967;-118.24485
LOCATION:The Edison\, 108 W. Second St\, Los Angeles\, CA 90012\, United St
 ates
END:VEVENT
END:VCALENDAR
