BEGIN:VCALENDAR
VERSION:2.0
PRODID:-//Squarespace Inc/Squarespace 6//v6//EN
BEGIN:VEVENT
UID:5cc882026e9a7f7303ad969f@squarespace.com
DTSTAMP:20190501T175015Z
DTSTART:20190507T230000Z
DTEND:20190508T010000Z
SUMMARY:Tasting Chopin: Single-Ingredient Polish Vodkas with Tadeusz Dorda
GEO:34.101926;-118.326468
LOCATION:Lost Property Bar & Kitchen\, 1704 Vine Street\, Hollywood\, CA  9
 0028\, United States
END:VEVENT
END:VCALENDAR
