BEGIN:VCALENDAR
VERSION:2.0
PRODID:-//Squarespace Inc/Squarespace 6//v6//EN
BEGIN:VEVENT
UID:5d373fa899a8a7000140ddad@squarespace.com
DTSTAMP:20190723T172547Z
DTSTART:20190801T150000Z
DTEND:20190831T213000Z
SUMMARY:Museum Month in New Orleans
GEO:29.940973;-90.079205
LOCATION:Southern Food & Beverage Museum\, 1504 Oretha Castle Haley Bouleva
 rd\, New Orleans\, LA\, 70113\, United States
END:VEVENT
END:VCALENDAR
