BEGIN:VCALENDAR
VERSION:2.0
PRODID:-//Squarespace Inc/Squarespace 6//v6//EN
BEGIN:VEVENT
UID:56c3a92d7da24f0e52c21254@squarespace.com
DTSTAMP:20181114T225532Z
DTSTART:20181122T160000Z
DTEND:20181122T223000Z
SUMMARY:Museums Closed on Thanksgiving
GEO:29.940973;-90.079205
LOCATION:Southern Food & Beverage Museum\, 1504 Oretha Castle Haley Bouleva
 rd\, New Orleans\, LA\, 70113\, United States
END:VEVENT
END:VCALENDAR
