BEGIN:VCALENDAR
VERSION:2.0
PRODID:-//Squarespace Inc/Squarespace 6//v6//EN
BEGIN:VEVENT
UID:5c72d1b9971a18427789e0d5@squarespace.com
DTSTAMP:20190224T174349Z
DTSTART:20190312T230000Z
DTEND:20190313T010000Z
SUMMARY:Mozart &amp\; Mamont: Belgian Chocolate Meets Siberian Vodka
GEO:34.101926;-118.326468
LOCATION:Lost Property Bar and Kitchen\, 1704 Vine St.\, Hollywood\, CA 900
 28\, United States
END:VEVENT
END:VCALENDAR
