BEGIN:VCALENDAR
VERSION:2.0
PRODID:-//Squarespace Inc/Squarespace 6//v6//EN
BEGIN:VEVENT
UID:5cc1c17815fcc0fa774e6e8e@squarespace.com
DTSTAMP:20190425T162341Z
DTSTART:20190430T230000Z
DTEND:20190501T010000Z
SUMMARY:KIN Whiskey: Spirits from the Heart with Taylor Lax
GEO:34.101926;-118.326468
LOCATION:Lost Property Bar & Kitchen\, 1704 Vine Street\, Hollywood\, CA  9
 0028\, United States
END:VEVENT
END:VCALENDAR
