BEGIN:VCALENDAR
VERSION:2.0
PRODID:-//Squarespace Inc/Squarespace 6//v6//EN
BEGIN:VEVENT
UID:5c49d20e575d1fe4bb02dda1@squarespace.com
DTSTAMP:20190221T232846Z
DTSTART:20190224T190000Z
DTEND:20190224T203000Z
SUMMARY:King of the Brandies: A Cognac Workshop with Irina Ponomarenko
GEO:33.737227;-118.288177
LOCATION:Pacific Food and Beverage Museum\, 731 S. Pacific Ave.\, San Pedro
 \, CA 90731\, United States
END:VEVENT
END:VCALENDAR
