BEGIN:VCALENDAR
VERSION:2.0
PRODID:-//Squarespace Inc/Squarespace 6//v6//EN
BEGIN:VEVENT
UID:56b3b59b9f7266f44c0a5e09@squarespace.com
DTSTAMP:20170621T153820Z
DTSTART:20160507T160000Z
DTEND:20160507T170000Z
SUMMARY:In the SoFAB Kitchen with Tonya Jacob
GEO:29.940973;-90.079205
LOCATION:Southern Food & Beverage Museum\, 1504 Oretha Castle Haley Bouleva
 rd\, New Orleans\, LA\, 70113\, United States
END:VEVENT
END:VCALENDAR
