BEGIN:VCALENDAR
VERSION:2.0
PRODID:-//Squarespace Inc/Squarespace 6//v6//EN
BEGIN:VEVENT
UID:56a7db7a5827c3782d6713af@squarespace.com
DTSTAMP:20170621T153822Z
DTSTART:20160213T190000Z
DTEND:20160213T200000Z
SUMMARY:In the SoFAB Kitchen with Pigeon & Prince
GEO:29.940973;-90.079205
LOCATION:Southern Food & Beverage Museum\, 1504 Oretha Castle Haley Bouleva
 rd\, New Orleans\, LA\, 70113\, United States
END:VEVENT
END:VCALENDAR
