BEGIN:VCALENDAR
VERSION:2.0
PRODID:-//Squarespace Inc/Squarespace 6//v6//EN
BEGIN:VEVENT
UID:5c6c1bb6eef1a1de5b23e9e5@squarespace.com
DTSTAMP:20190312T140343Z
DTSTART:20190330T170000Z
DTEND:20190330T180000Z
SUMMARY:In the SoFAB Kitchen with Beau Bourgeois
GEO:29.940973;-90.079205
LOCATION:Southern Food & Beverage Museum\, 1504 Oretha C. Haley Blvd\, New 
 Orleans\, LA 70113
END:VEVENT
END:VCALENDAR
