BEGIN:VCALENDAR
VERSION:2.0
PRODID:-//Squarespace Inc/Squarespace 6//v6//EN
BEGIN:VEVENT
UID:563bc2fde4b0456b2d1b8114@squarespace.com
DTSTAMP:20170621T154124Z
DTSTART:20151215T200000Z
DTEND:20151215T213000Z
SUMMARY:Growing Veggies in NOLA: Easy and Affordable with Southbound Garden
 s
GEO:29.940311;-90.080082
LOCATION:John & Bonnie Boyd Hospitality & Culinary Library\, 1609 Oretha Ca
 stle Haley Boulevard\, New Orleans\, LA\, 70113\, United States
END:VEVENT
END:VCALENDAR
