BEGIN:VCALENDAR
VERSION:2.0
PRODID:-//Squarespace Inc/Squarespace 6//v6//EN
BEGIN:VEVENT
UID:5c8674c04785d32088d0e88d@squarespace.com
DTSTAMP:20190311T145100Z
DTSTART:20190320T230000Z
DTEND:20190321T010000Z
SUMMARY:Go High West: An American Whiskey Tasting with Justino C. Irving
GEO:34.050967;-118.24485
LOCATION:The Edison\, 108 W. Second St.\, Los Angeles\, CA 90012\, United S
 tates
END:VEVENT
END:VCALENDAR
