BEGIN:VCALENDAR
VERSION:2.0
PRODID:-//Squarespace Inc/Squarespace 6//v6//EN
BEGIN:VEVENT
UID:559eabace4b06b2dffd19c7b@squarespace.com
DTSTAMP:20170621T153715Z
DTSTART:20150713T150000Z
DTEND:20150720T213000Z
SUMMARY:Extended Hours for Tales of the Cocktail
GEO:29.94098;-90.0792
LOCATION:Museum of the American Cocktail\, 1504 Oretha Castle Haley Blvd\, 
 New Orleans\, LA\, 70113\, United States
END:VEVENT
END:VCALENDAR
