BEGIN:VCALENDAR
VERSION:2.0
PRODID:-//Squarespace Inc/Squarespace 6//v6//EN
BEGIN:VEVENT
UID:5c9c21effa0d6034407ae06c@squarespace.com
DTSTAMP:20190328T012749Z
DTSTART:20190402T230000Z
DTEND:20190403T010000Z
SUMMARY:Diving Crater Lake: Oregon Whiskeys &amp\; More with Lee Farrell
GEO:34.101926;-118.326468
LOCATION:Lost Property Bar and Kitchen\, 1704 Vine Street\, Hollywood\, CA 
 90028\, United States
END:VEVENT
END:VCALENDAR
