BEGIN:VCALENDAR
VERSION:2.0
PRODID:-//Squarespace Inc/Squarespace 6//v6//EN
BEGIN:VEVENT
UID:5c8516cc9b747a5e7a4d5586@squarespace.com
DTSTAMP:20190312T210323Z
DTSTART:20190314T230000Z
DTEND:20190315T010000Z
SUMMARY:Diplomático Rum: The Heart of Venezuela with François Vera
GEO:34.101926;-118.326468
LOCATION:Lost Property Bar & Kitchen\, 1704 Vine Street\, Los Angeles\, CA 
 90028\, United States
END:VEVENT
END:VCALENDAR
