BEGIN:VCALENDAR
VERSION:2.0
PRODID:-//Squarespace Inc/Squarespace 6//v6//EN
BEGIN:VEVENT
UID:5c1e5caa575d1f59f7681096@squarespace.com
DTSTAMP:20190124T145614Z
DTSTART:20190209T190000Z
DTEND:20190209T203000Z
SUMMARY:Deep Roots &amp\; Winter Greens: A Seasonal Produce &amp\; Book Eve
 nt with Robert Schueller &amp\; Tracey Mitchell
GEO:33.737227;-118.288177
LOCATION:Pacific Food and Beverage Museum\, 731 S. Pacific Ave.\, San Pedro
 \, CA 90731\, United States
END:VEVENT
END:VCALENDAR
