BEGIN:VCALENDAR
VERSION:2.0
PRODID:-//Squarespace Inc/Squarespace 6//v6//EN
BEGIN:VEVENT
UID:5c67768cf4e1fcbaed7477da@squarespace.com
DTSTAMP:20190224T165928Z
DTSTART:20190319T230000Z
DTEND:20190320T010000Z
SUMMARY:Coasting a-Malfy: Italian Gins &amp\; More with Jean-Marie Manning
GEO:34.101926;-118.326468
LOCATION:Lost Property Bar and Kitchen\, 1704 Vine St.\, Hollywood\, CA 900
 28\, United States
END:VEVENT
END:VCALENDAR
