BEGIN:VCALENDAR
VERSION:2.0
PRODID:-//Squarespace Inc/Squarespace 6//v6//EN
BEGIN:VEVENT
UID:565633b9e4b0b80773870311@squarespace.com
DTSTAMP:20170621T154010Z
DTSTART:20151219T190000Z
DTEND:20151219T210000Z
SUMMARY:Booksigning with Cynthia LeJeune Nobles
GEO:29.940973;-90.079205
LOCATION:Southern Food and Beverage Museum\, 1504 Oretha Castle Haley Boule
 vard\, New Orleans\, LA\, 70113\, United States
END:VEVENT
END:VCALENDAR
