BEGIN:VCALENDAR
VERSION:2.0
PRODID:-//Squarespace Inc/Squarespace 6//v6//EN
BEGIN:VEVENT
UID:5631399fe4b0a759fb0f077b@squarespace.com
DTSTAMP:20170621T154010Z
DTSTART:20151212T160000Z
DTEND:20151212T223000Z
SUMMARY:Book Sale at the SoFAB Pantry!
GEO:29.940973;-90.079206
LOCATION:Southern Food and Beverage Museum\, 1504 Oretha Castle Haley Boule
 vard\, New Orleans\, LA\, 70113\, United States
END:VEVENT
END:VCALENDAR
