BEGIN:VCALENDAR
VERSION:2.0
PRODID:-//Squarespace Inc/Squarespace 6//v6//EN
BEGIN:VEVENT
UID:5a74c3c7c83025b92d925deb@squarespace.com
DTSTAMP:20180620T165540Z
DTSTART:20180623T150000Z
DTEND:20180623T180000Z
SUMMARY:Big Top Cake Competition 2018
GEO:29.940973;-90.079205
LOCATION:Southern Food & Beverage Museum\, 1504 Oretha Castle Haley Bouleva
 rd\, New Orleans\, LA\, 70113\, United States
END:VEVENT
END:VCALENDAR
