BEGIN:VCALENDAR
VERSION:2.0
PRODID:-//Squarespace Inc/Squarespace 6//v6//EN
BEGIN:VEVENT
UID:5c72cd701905f442e8fc4ebd@squarespace.com
DTSTAMP:20190226T144030Z
DTSTART:20190306T000000Z
DTEND:20190306T020000Z
SUMMARY:Aloha from Kōloa: Discovering Hawaiian Rum with Erik Strong
GEO:34.101926;-118.326468
LOCATION:Lost Property Bar and Kitchen\, 1704 Vine St.\, Hollywood\, CA 900
 28\, United States
END:VEVENT
END:VCALENDAR
