BEGIN:VCALENDAR
VERSION:2.0
PRODID:-//Squarespace Inc/Squarespace 6//v6//EN
BEGIN:VEVENT
UID:5c8519ce4e17b67945700e4b@squarespace.com
DTSTAMP:20190320T163627Z
DTSTART:20190330T180000Z
DTEND:20190330T193000Z
SUMMARY:A Communal Table: The World on a Plate with Nancy Buchanan
GEO:33.737227;-118.288177
LOCATION:Pacific Food and Beverage Museum\, 731 S. Pacific Ave.\, San Pedro
 \, CA 90731\, United States
END:VEVENT
END:VCALENDAR
