BEGIN:VCALENDAR
VERSION:2.0
PRODID:-//Squarespace Inc/Squarespace 6//v6//EN
BEGIN:VEVENT
UID:5deaa843fb542c1dd87d1c6e@squarespace.com
DTSTAMP:20201018T171631Z
DTSTART:20200322T140000Z
DTEND:20200322T153000Z
SUMMARY:Kids in the Kitchen: Spaghetti and Meatballs
GEO:29.940834;-90.079101
LOCATION:Southern Food & Beverage Museum\, 1504 Oretha Castle Haley Bouleva
 rd\, New Orleans\, LA\, 70113\, United States
END:VEVENT
END:VCALENDAR
