BEGIN:VCALENDAR
VERSION:2.0
PRODID:-//Squarespace Inc/Squarespace 6//v6//EN
BEGIN:VEVENT
UID:5dfd0bf259bf595660d0e914@squarespace.com
DTSTAMP:20200123T212929Z
DTSTART:20200319T150000Z
DTEND:20200319T170000Z
SUMMARY:Taste of Louisiana: Hands-On Creole Italian Class and Lunch at SoFA
 B
GEO:29.940973;-90.079205
LOCATION:Southern Food & Beverage Museum\, 1504 Oretha Castle Haley Bouleva
 rd\, New Orleans\, LA\, 70113\, United States
END:VEVENT
END:VCALENDAR
