BEGIN:VCALENDAR
VERSION:2.0
PRODID:-//Squarespace Inc/Squarespace 6//v6//EN
BEGIN:VEVENT
UID:5dd81b2afafde645e0183274@squarespace.com
DTSTAMP:20191209T211027Z
DTSTART:20191214T190000Z
DTEND:20191214T203000Z
SUMMARY:Paul Freedman Talk &amp\; Book Signing
GEO:29.940834;-90.079101
LOCATION:Southern Food & Beverage Museum\, 1504 Oretha Castle Haley Blvd\, 
 New Orleans\, United States
END:VEVENT
END:VCALENDAR
