BEGIN:VCALENDAR
VERSION:2.0
PRODID:-//Squarespace Inc/Squarespace 6//v6//EN
BEGIN:VEVENT
UID:5dc46b47ea53561fa1a2f00e@squarespace.com
DTSTAMP:20191107T214241Z
DTSTART:20191123T180000Z
DTEND:20191123T193000Z
SUMMARY:In the SoFAB Kitchen with Chef Dee Lavigne
GEO:29.940705;-90.079198
LOCATION:Southern Food & Beverage Museum\, 1504 Oretha Castle Haley Bouleva
 rd\, New Orleans\, LA\, 70113\, United States
END:VEVENT
END:VCALENDAR
